{"text_format":"1","workbook":"xlsx","n_sheets":3,"sheets":["Main","Gradient","Flow Rate"],"not_rendered":{"charts":0,"images":10,"macros":1,"external_links":0,"defined_names":18,"comments":0,"pivot_tables":0},"unopened":[],"bounds":{"document_bytes":16777216,"sheet_cells":100000,"rows_first":2000,"rows_last":500,"rows_between":2000,"halvings":0,"cell_chars":16384,"cell_head_chars":4096},"cells_cut":0,"cells_raw":0,"read":"whole","date_system":"1900"}

{"sheet":"Main","index":0,"n_rows":37,"n_cols":32,"rows_kept":37,"cut":false,"hidden":false,"merged":[[9,0,34,0],[36,2,36,31]]}
["Finite Difference Solution - 2D Seepage"]
["CE En 544 - Brigham Young University"]
[]
[null,null,"Head 1:",null,null,null,"Head 1:",11.1,{"$f":"\"[\" & lunit & \"]\"","v":"[m]"},null,null,"Length unit:","m"]
[null,null,"Head 2:",null,null,null,"Head 2:",7.5,{"$f":"\"[\" & lunit & \"]\"","v":"[m]"},null,null,"Time unit:","day",null,null,null,"Arrow size:",20]
[null,null,"Active:",null,null,null,"Cell Size:",1.25,{"$f":"\"[\" & lunit & \"]\"","v":"[m]"},null,null,null,null,null,null,null,"Arrow color:"]
[null,null,"Background:"]
[]
[]
["Y",{"$f":"B11+cellsize","v":31.25}]
[null,30]
[null,28.75]
[null,27.5]
[null,26.25]
[null,25]
[null,23.75]
[null,22.5]
[null,21.25]
[null,20,{"$f":"H_1","v":11.1},{"$f":"H_1","v":11.1},{"$f":"H_1","v":11.1},{"$f":"H_1","v":11.1},{"$f":"H_1","v":11.1},{"$f":"H_1","v":11.1},{"$f":"H_1","v":11.1},{"$f":"H_1","v":11.1},{"$f":"H_1","v":11.1},{"$f":"H_1","v":11.1},{"$f":"(M20 + 0.5*L19 + 0.5*N19)/2","v":10.528960143561495},{"$f":"(N20 + 0.5*M19 + 0.5*O19)/2","v":10.15702683443895},{"$f":"(O20 + 0.5*N19 + 0.5*P19)/2","v":9.8512410334120037},{"$f":"(P20 + 0.5*O19 + 0.5*Q19)/2","v":9.5709355045556297},{"$f":"(Q20 + 0.5*P19 + 0.5*R19)/2","v":9.2999923931646258},{"$f":"(R20 + 0.5*Q19 + 0.5*S19)/2","v":9.02904971309761},{"$f":"(S20 + 0.5*R19 + 0.5*T19)/2","v":8.7487455121089184},{"$f":"(T20 + 0.5*S19 + 0.5*U19)/2","v":8.4429620827375196},{"$f":"(U20 + 0.5*T19 + 0.5*V19)/2","v":8.0710326761127575},{"$f":"H_2","v":7.5},{"$f":"H_2","v":7.5},{"$f":"H_2","v":7.5},{"$f":"H_2","v":7.5},{"$f":"H_2","v":7.5},{"$f":"H_2","v":7.5},{"$f":"H_2","v":7.5},{"$f":"H_2","v":7.5},{"$f":"H_2","v":7.5},{"$f":"H_2","v":7.5}]
[null,18.75,{"$f":"(0.5*C19 + 0.5*C21 + D20)/2","v":11.057461156085221},{"$f":"(D19 + D21 + C20 + E20)/4","v":11.055960728198407},{"$f":"(E19 + E21 + D20 + F20)/4","v":11.051325684067956},{"$f":"(F19 + F21 + E20 + G20)/4","v":11.043124613214406},{"$f":"(G19 + G21 + F20 + H20)/4","v":11.030519115407433},{"$f":"(H19 + H21 + G20 + I20)/4","v":11.011999914944642},{"$f":"(I19 + I21 + H20 + J20)/4","v":10.984751781420242},{"$f":"(J19 + J21 + I20 + K20)/4","v":10.943004760797169},{"$f":"(K19 + K21 + J20 + L20)/4","v":10.873302801428489},{"$f":"(L19 + L21 + K20 + M20)/4","v":10.739426670332438},{"$f":"(M19 + M21 + L20 + N20)/4","v":10.429407015908327},{"$f":"(N19 + N21 + M20 + O20)/4","v":10.12395326710957},{"$f":"(O19 + O21 + N20 + P20)/4","v":9.8385011099112667},{"$f":"(P19 + P21 + O20 + Q20)/4","v":9.5662545207480036},{"$f":"(Q19 + Q21 + P20 + R20)/4","v":9.299992402101001},{"$f":"(R19 + R21 + Q20 + S20)/4","v":9.033730685468182},{"$f":"(S19 + S21 + R20 + T20)/4","v":8.7614853127158021},{"$f":"(T19 + T21 + S20 + U20)/4","v":8.4760352172420994},{"$f":"(U19 + U21 + T20 + V20)/4","v":8.170584393175389},{"$f":"(V19 + V21 + U20 + W20)/4","v":7.8605682262166363},{"$f":"(W19 + W21 + V20 + X20)/4","v":7.7266935831294878},{"$f":"(X19 + X21 + W20 + Y20)/4","v":7.6569924036680339},{"$f":"(Y19 + Y21 + X20 + Z20)/4","v":7.6152458635542697},{"$f":"(Z19 + Z21 + Y20 + AA20)/4","v":7.5879980571242545},{"$f":"(AA19 + AA21 + Z20 + AB20)/4","v":7.5694790893785147},{"$f":"(AB19 + AB21 + AA20 + AC20)/4","v":7.5568737567076223},{"$f":"(AC19 + AC21 + AB20 + AD20)/4","v":7.5486727967388756},{"$f":"(AD19 + AD21 + AC20 + AE20)/4","v":7.5440378161618629},{"$f":"(0.5*AE19 + 0.5*AE21 + AD20)/2","v":7.5425374078416647}]
[null,17.5,{"$f":"(0.5*C20 + 0.5*C22 + D21)/2","v":11.017923231845767},{"$f":"(D20 + D22 + C21 + E21)/4","v":11.015056120884832},{"$f":"(E20 + E22 + D21 + F21)/4","v":11.006217445249652},{"$f":"(F20 + F22 + E21 + G21)/4","v":10.990653707444629},{"$f":"(G20 + G22 + F21 + H21)/4","v":10.96695199294968},{"$f":"(H20 + H22 + G21 + I21)/4","v":10.932728830035838},{"$f":"(I20 + I22 + H21 + J21)/4","v":10.884002527746089},{"$f":"(J20 + J22 + I21 + K21)/4","v":10.813964554081743},{"$f":"(K20 + K22 + J21 + L21)/4","v":10.710779894755756},{"$f":"(L20 + L22 + K21 + M21)/4","v":10.554997036053008},{"$f":"(M20 + M22 + L21 + N21)/4","v":10.325288206624005},{"$f":"(N20 + N22 + M21 + O21)/4","v":10.070878373100314},{"$f":"(O20 + O22 + N21 + P21)/4","v":9.8125559098940194},{"$f":"(P20 + P22 + O21 + Q21)/4","v":9.5555893694891552},{"$f":"(Q20 + Q22 + P21 + R21)/4","v":9.2999923086057326},{"$f":"(R20 + R22 + Q21 + S21)/4","v":9.0443955952402977},{"$f":"(S20 + S22 + R21 + T21)/4","v":8.7874300844807998},{"$f":"(T20 + T22 + S21 + U21)/4","v":8.5291092821611336},{"$f":"(U20 + U22 + T21 + V21)/4","v":8.2747015992109709},{"$f":"(V20 + V22 + U21 + W21)/4","v":8.0449950376652914},{"$f":"(W20 + W22 + V21 + X21)/4","v":7.8892137882563533},{"$f":"(X20 + X22 + W21 + Y21)/4","v":7.7860302379979958},{"$f":"(Y20 + Y22 + X21 + Z21)/4","v":7.7159930524774545},{"$f":"(Z20 + Z22 + Y21 + AA21)/4","v":7.6672673266525369},{"$f":"(AA20 + AA22 + Z21 + AB21)/4","v":7.6330445889269996},{"$f":"(AB20 + AB22 + AA21 + AC21)/4","v":7.6093431817564472},{"$f":"(AC20 + AC22 + AB21 + AD21)/4","v":7.5937796522930991},{"$f":"(AD20 + AD22 + AC21 + AE21)/4","v":7.5849410966389517},{"$f":"(0.5*AE20 + 0.5*AE22 + AD21)/2","v":7.5820740226691754}]
[null,16.25,{"$f":"(0.5*C21 + 0.5*C23 + D22)/2","v":10.984119635720099},{"$f":"(D21 + D23 + C22 + E22)/4","v":10.980123154405831},{"$f":"(E21 + E23 + D22 + F22)/4","v":10.967834348246548},{"$f":"(F21 + F23 + E22 + G22)/4","v":10.946320863831902},{"$f":"(G21 + G23 + F22 + H22)/4","v":10.913906412796234},{"$f":"(H21 + H23 + G22 + I22)/4","v":10.867960989878267},{"$f":"(I21 + I23 + H22 + J22)/4","v":10.804565066221826},{"$f":"(J21 + J23 + I22 + K22)/4","v":10.718071174555991},{"$f":"(K21 + K23 + J22 + L22)/4","v":10.600855357319549},{"$f":"(L21 + L23 + K22 + M22)/4","v":10.44449358008108},{"$f":"(M21 + M23 + L22 + N22)/4","v":10.245870647315989},{"$f":"(N21 + N23 + M22 + O22)/4","v":10.021716386432596},{"$f":"(O21 + O23 + N22 + P22)/4","v":9.7852550861042218},{"$f":"(P21 + P23 + O22 + Q22)/4","v":9.5435550469305817},{"$f":"(Q21 + Q23 + P22 + R22)/4","v":9.2999921722802643},{"$f":"(R21 + R23 + Q22 + S22)/4","v":9.0564295911032691},{"$f":"(S21 + S23 + R22 + T22)/4","v":8.8147304091496963},{"$f":"(T21 + T23 + S22 + U22)/4","v":8.5782704527942677},{"$f":"(U21 + U23 + T22 + V22)/4","v":8.3541178690498672},{"$f":"(V21 + V23 + U22 + W22)/4","v":8.1554966885552709},{"$f":"(W21 + W23 + V22 + X22)/4","v":7.9991364197771375},{"$f":"(X21 + X23 + W22 + Y22)/4","v":7.8819218133300701},{"$f":"(Y21 + Y23 + X22 + Z22)/4","v":7.79542887234844},{"$f":"(Z21 + Z23 + Y22 + AA22)/4","v":7.7320336872181779},{"$f":"(AA21 + AA23 + Z22 + AB22)/4","v":7.6860888283968025},{"$f":"(AB21 + AB23 + AA22 + AC22)/4","v":7.6536747932746216},{"$f":"(AC21 + AC23 + AB22 + AD22)/4","v":7.6321615939579086},{"$f":"(AD21 + AD23 + AC22 + AE22)/4","v":7.6198729529329814},{"$f":"(0.5*AE21 + 0.5*AE23 + AD22)/2","v":7.6158765226165128}]
[null,15,{"$f":"(0.5*C22 + 0.5*C24 + D23)/2","v":10.958309142625779},{"$f":"(D22 + D24 + C23 + E23)/4","v":10.95348261108265},{"$f":"(E22 + E24 + D23 + F23)/4","v":10.938676032305857},{"$f":"(F22 + F24 + E23 + G23)/4","v":10.912889097043708},{"$f":"(G22 + G24 + F23 + H23)/4","v":10.87439192523459},{"$f":"(H22 + H24 + G23 + I23)/4","v":10.820643785118556},{"$f":"(I22 + I24 + H23 + J23)/4","v":10.748225725231},{"$f":"(J22 + J24 + I23 + K23)/4","v":10.652899895458482},{"$f":"(K22 + K24 + J23 + L23)/4","v":10.530076981872172},{"$f":"(L22 + L24 + K23 + M23)/4","v":10.376251512605391},{"$f":"(M22 + M24 + L23 + N23)/4","v":10.191984679621356},{"$f":"(N22 + N24 + M23 + O23)/4","v":9.9848617282808512},{"$f":"(O22 + O24 + N23 + P23)/4","v":9.7631933076121289},{"$f":"(P22 + P24 + O23 + Q23)/4","v":9.5333838736145147},{"$f":"(Q22 + Q24 + P23 + R23)/4","v":9.2999920527804427},{"$f":"(R22 + R24 + Q23 + S23)/4","v":9.0666004840894754},{"$f":"(S22 + S24 + R23 + T23)/4","v":8.8367917814361263},{"$f":"(T22 + T24 + S23 + U23)/4","v":8.6151244942260092},{"$f":"(U22 + U24 + T23 + V23)/4","v":8.4080029464962251},{"$f":"(V22 + V24 + U23 + W23)/4","v":8.2237376080818301},{"$f":"(W22 + W24 + V23 + X23)/4","v":8.0699135430203324},{"$f":"(X22 + X24 + W23 + Y23)/4","v":7.9470918555103705},{"$f":"(Y22 + Y24 + X23 + Z23)/4","v":7.8517670511434012},{"$f":"(Z22 + Z24 + Y23 + AA23)/4","v":7.7793498223941047},{"$f":"(AA22 + AA24 + Z23 + AB23)/4","v":7.7256023344329821},{"$f":"(AB22 + AB24 + AA23 + AC23)/4","v":7.6871056514139227},{"$f":"(AC22 + AC24 + AB23 + AD23)/4","v":7.6613190544393115},{"$f":"(AD22 + AD24 + AC23 + AE23)/4","v":7.6465126726205028},{"$f":"(0.5*AE22 + 0.5*AE24 + AD23)/2","v":7.6416862019927194}]
[null,13.75,{"$f":"(0.5*C23 + 0.5*C25 + D24)/2","v":10.942151877034746},{"$f":"(D23 + D25 + C24 + E24)/4","v":10.936822228344212},{"$f":"(E23 + E25 + D24 + F24)/4","v":10.920498191356053},{"$f":"(F23 + F25 + E24 + G24)/4","v":10.892167693692882},{"$f":"(G23 + G25 + F24 + H24)/4","v":10.850128544616933},{"$f":"(H23 + H25 + G24 + I24)/4","v":10.791996654045128},{"$f":"(I23 + I25 + H24 + J24)/4","v":10.714794326991374},{"$f":"(J23 + J25 + I24 + K24)/4","v":10.615225895636691},{"$f":"(K23 + K25 + J24 + L24)/4","v":10.490301383304008},{"$f":"(L23 + L25 + K24 + M24)/4","v":10.338451057445166},{"$f":"(M23 + M25 + L24 + N24)/4","v":10.160955105090888},{"$f":"(N23 + N25 + M24 + O24)/4","v":9.9625528361019615},{"$f":"(O23 + O25 + N24 + P24)/4","v":9.7492728539183648},{"$f":"(P23 + P25 + O24 + Q24)/4","v":9.5267954046980581},{"$f":"(Q23 + Q25 + P24 + R24)/4","v":9.2999919953512666},{"$f":"(R23 + R25 + Q24 + S24)/4","v":9.0731888127424654},{"$f":"(S23 + S25 + R24 + T24)/4","v":8.850712019573125},{"$f":"(T23 + T25 + S24 + U24)/4","v":8.637433051360933},{"$f":"(U23 + U25 + T24 + V24)/4","v":8.4390320409713198},{"$f":"(V23 + V25 + U24 + W24)/4","v":8.261537452156567},{"$f":"(W23 + W25 + V24 + X24)/4","v":8.1096884606443158},{"$f":"(X23 + X25 + W24 + Y24)/4","v":7.9847651639623685},{"$f":"(Y23 + Y25 + X24 + Z24)/4","v":7.8851977849263317},{"$f":"(Z23 + Z25 + Y24 + AA24)/4","v":7.8079963321774368},{"$f":"(AA23 + AA25 + Z24 + AB24)/4","v":7.7498651390570128},{"$f":"(AB23 + AB25 + AA24 + AC24)/4","v":7.7078265182360717},{"$f":"(AC23 + AC25 + AB24 + AD24)/4","v":7.6794963885010468},{"$f":"(AD23 + AD25 + AC24 + AE24)/4","v":7.6631725664757591},{"$f":"(0.5*AE23 + 0.5*AE25 + AD24)/2","v":7.6578429843337457}]
[null,12.5,{"$f":"(0.5*C24 + 0.5*D25)","v":10.936654085693206},{"$f":"(D24 + 0.5*C25 + 0.5*E25)/2","v":10.931156354362912},{"$f":"(E24 + 0.5*D25 + 0.5*F25)/2","v":10.914326937010788},{"$f":"(F24 + 0.5*E25 + 0.5*G25)/2","v":10.885155076515701},{"$f":"(G24 + 0.5*F25 + 0.5*H25)/2","v":10.841958052524504},{"$f":"(H24 + 0.5*G25 + 0.5*I25)/2","v":10.782420122252987},{"$f":"(I24 + 0.5*H25 + 0.5*J25)/2","v":10.703729215085286},{"$f":"(J24 + 0.5*I25 + 0.5*K25)/2","v":10.602908181225954},{"$f":"(K24 + 0.5*J25 + 0.5*L25)/2","v":10.477451827476866},{"$f":"(L24 + 0.5*K25 + 0.5*M25)/2","v":10.326296483629552},{"$f":"(M24 + 0.5*L25 + 0.5*N25)/2","v":10.150832126202653},{"$f":"(N24 + 0.5*M25 + 0.5*O25)/2","v":9.9551219561672131},{"$f":"(O24 + 0.5*N25 + 0.5*P25)/2","v":9.7445501799050103},{"$f":"(P24 + 0.5*O25 + 0.5*Q25)/2","v":9.5245332140941041},{"$f":"(Q24 + 0.5*P25 + 0.5*R25)/2","v":9.299992026168443},{"$f":"(R24 + 0.5*Q25 + 0.5*S25)/2","v":9.0754510552556038},{"$f":"(S24 + 0.5*R25 + 0.5*T25)/2","v":8.855434717060632},{"$f":"(T24 + 0.5*S25 + 0.5*U25)/2","v":8.6448639106565448},{"$f":"(U24 + 0.5*T25 + 0.5*V25)/2","v":8.4491549467119942},{"$f":"(V24 + 0.5*U25 + 0.5*W25)/2","v":8.2736919043741288},{"$f":"(W24 + 0.5*V25 + 0.5*X25)/2","v":8.1225378632296295},{"$f":"(X24 + 0.5*W25 + 0.5*Y25)/2","v":7.9970827118358443},{"$f":"(Y24 + 0.5*X25 + 0.5*Z25)/2","v":7.8962627302074972},{"$f":"(Z24 + 0.5*Y25 + 0.5*AA25)/2","v":7.8175727043594785},{"$f":"(AA24 + 0.5*Z25 + 0.5*AB25)/2","v":7.7580354810348435},{"$f":"(AB24 + 0.5*AA25 + 0.5*AC25)/2","v":7.7148389944142464},{"$f":"(AC24 + 0.5*AB25 + 0.5*AD25)/2","v":7.6856675090211173},{"$f":"(AD24 + 0.5*AC25 + 0.5*AE25)/2","v":7.6688383110908447},{"$f":"(0.5*AE24 + 0.5*AD25)","v":7.6633406477122952}]
[null,11.25]
[null,10]
[null,8.75]
[null,7.5]
[null,6.25]
[null,5]
[null,3.75]
[null,2.5]
[null,1.25]
[null,0]
[null,null,0,{"$f":"C36+cellsize","v":1.25},2.5,3.75,5,6.25,7.5,8.75,10,11.25,12.5,13.75,15,16.25,17.5,18.75,20,21.25,22.5,23.75,25,26.25,27.5,28.75,30,31.25,32.5,33.75,35,36.25]
[null,null,"X"]

{"sheet":"Gradient","index":1,"n_rows":37,"n_cols":32,"rows_kept":37,"cut":false,"hidden":false,"merged":[[9,0,34,0],[36,2,36,31]]}
["Hydraulic Gradient"]
[null,null,null,null,null,null,null,null,null,null,"Critical gradient:",0.2,{"$f":"\"[\" & lunit & \"/\" & tunit & \"]\"","v":"[m/day]"}]
[]
[]
[]
[null,null,null,"Max gradient:",{"$f":"MAX(C10:AF35)","v":0.38600059321952579},{"$f":"\"[\" & lunit & \"/\" & tunit & \"]\"","v":"[m/day]"}]
[]
[]
[]
["Y",{"$f":"B11+cellsize","v":31.25}]
[null,30]
[null,28.75]
[null,27.5]
[null,26.25]
[null,25]
[null,23.75]
[null,22.5]
[null,21.25]
[null,20,3.4168273268166162E-2,3.5369298436243923E-2,3.9082113058555024E-2,4.5652050322445348E-2,5.5750354369999401E-2,7.0585533567422948E-2,9.2412037500814392E-2,0.12585090389974168,0.18167959613728329,0.36849095231048046,0.38600059321952579,0.27264134686494074,0.23480633915680607,0.22059426100063634,0.21674225110403908,0.22044557991508346,0.23449307246231124,0.27210646185564313,0.38503474485953798,0.36743768224748252,0.18106819372021193,0.12537128877336415,9.2013600415211269E-2,7.0242345954635257E-2,5.5446469839584719E-2,4.5376054047442695E-2,3.8824844991526677E-2,3.5122769460475212E-2,3.3925060471563032E-2]
[null,18.75,3.2983728468823352E-2,3.4197704851395658E-2,3.7998731003094942E-2,4.4667686131752406E-2,5.4813440004542184E-2,6.9543595341516259E-2,9.0901064133744949E-2,0.12302990801087925,0.17599250443627781,0.28156741838465638,0.25961996421695638,0.23907358319054653,0.22374667121165401,0.21554819846545104,0.21299746415632029,0.21541087378739704,0.22346707217393022,0.23864117177884142,0.2590254042727097,0.28078227416968998,0.17543036687557156,0.12258084388199721,9.0524149105998042E-2,6.9217443911847767E-2,5.4524092755503593E-2,4.440462192676909E-2,3.7753248895319488E-2,3.3962194412620425E-2,3.2751281219983878E-2]
[null,17.5,2.9540799304506014E-2,3.0809122267421059E-2,3.491181295707086E-2,4.1910695626817075E-2,5.2218961479646255E-2,6.6638326280381036E-2,8.6494649901012632E-2,0.11375936320610215,0.15058351743660489,0.19440468260873964,0.20731428691348275,0.2092963488311779,0.20732081470240324,0.20527392181431386,0.20446525876352228,0.20515553483807877,0.20708659573352883,0.20895327219048018,0.20687843710872597,0.19390669482276623,0.15014287378095328,0.11338169737570769,8.6169421970968649E-2,6.6354502500610077E-2,5.1966802445501795E-2,4.1681515312991142E-2,3.4697725277778591E-2,3.0603158676560358E-2,2.9337241207219394E-2]
[null,16.25,2.4149669661407854E-2,2.5566630108172655E-2,3.0303487968903843E-2,3.7951956981615194E-2,4.8618468948201925E-2,6.2755621458422631E-2,8.1035606927998036E-2,0.10403276251798312,0.13132047887036608,0.15915864199369878,0.17748062378291557,0.18756081556795032,0.19236732478214125,0.19434600997268278,0.19483768339502372,0.19424653661543231,0.19217445484459239,0.18728764175004076,0.17714884323052002,0.15880027260538604,0.1309815947363473,0.10373000766352175,8.0770624503743324E-2,6.2524402243929855E-2,4.8414991332901357E-2,3.776930514022659E-2,3.0134223644878975E-2,2.5403662412945324E-2,2.3988247415884886E-2]
[null,15,1.7286268517301747E-2,1.9077644363674869E-2,2.500556181199123E-2,3.3690916837579341E-2,4.4938826602992761E-2,5.900152698270713E-2,7.6209824321538819E-2,9.6592795624112313E-2,0.11930153633974047,0.14186965620828426,0.16032482014982016,0.17324491103971382,0.1812336656856337,0.18543160447864712,0.18670064283589247,0.18534728131054987,0.18107243668801576,0.17302157818485922,0.16006097360921279,0.1415914816425268,0.11903455237262307,9.6351238972814737E-2,7.5998671520903685E-2,5.8820419697576211E-2,4.4784614379810767E-2,3.3558683890062377E-2,2.488857606163826E-2,1.8967432071768989E-2,1.7176944557013723E-2]
[null,13.75,9.6816659688922883E-3,1.246817304273902E-2,2.0379151523068934E-2,3.0301001764114727E-2,4.217555162927461E-2,5.6324739580858929E-2,7.3001592592625203E-2,9.2097378978614794E-2,0.11280363072486668,0.13335854207790074,0.15136382228410566,0.16518988078943025,0.17452216033965259,0.17977211053602651,0.18142981732462543,0.17969740031711368,0.17438051405875135,0.1649962337166816,0.15113854614785574,0.13312394139372571,0.1125788661732003,9.1894645895780766E-2,7.2826654549162248E-2,5.6179055904396577E-2,4.2058158019579427E-2,3.0209567685154159E-2,2.0309960205500407E-2,1.2414031367004124E-2,9.630265131174669E-3]
[null,12.5,6.2301730804978682E-3,1.0029020571290308E-2,1.9077100381337923E-2,2.9525543903629572E-2,4.1664167426378663E-2,5.5887867729802802E-2,7.2430602871340052E-2,9.1140657248855811E-2,0.11122505947292442,0.13111572127501328,0.14879039032379951,0.16270425655580895,0.17233321524415474,0.17785566915315798,0.17962008656974701,0.17778440995403402,0.17219838573393073,0.162520439774404,0.14857706579233901,0.13089368940330851,0.11101199098892713,9.0948318907184508E-2,7.2265097994989647E-2,5.5751313941083062E-2,4.1556410827738817E-2,2.9445356910429342E-2,1.9022728650254141E-2,9.9974449138005572E-3,6.2067173112902762E-3]
[null,11.25]
[null,10]
[null,8.75]
[null,7.5]
[null,6.25]
[null,5]
[null,3.75]
[null,2.5]
[null,1.25]
[null,0]
[null,null,0,{"$f":"C36+cellsize","v":1.25},2.5,3.75,5,6.25,7.5,8.75,10,11.25,12.5,13.75,15,16.25,17.5,18.75,20,21.25,22.5,23.75,25,26.25,27.5,28.75,30,31.25,32.5,33.75,35,36.25]
[null,null,"X"]

{"sheet":"Flow Rate","index":2,"n_rows":15,"n_cols":12,"rows_kept":15,"cut":false,"hidden":false,"merged":[]}
["Flow Rate"]
[]
[null,null,"K:",{"$f":"0.004/100*24*3600","v":3.4560000000000004},{"$f":"\"[\" & lunit & \"/\" & tunit & \"]\"","v":"[m/day]"}]
[null,null,"Problem length (transverse):",300,{"$f":"\"[\" & lunit & \"]\"","v":"[m]"}]
[null,null,"Head boundary:",1,"<-- Select 1 or 2"]
[]
[]
[null,"xi:",0,1.25,2.5,3.75,5,6.25,7.5,8.75,10,11.25]
[null,"Ai:",{"$f":"cellsize/2","v":0.625},{"$f":"cellsize","v":1.25},{"$f":"cellsize","v":1.25},{"$f":"cellsize","v":1.25},{"$f":"cellsize","v":1.25},{"$f":"cellsize","v":1.25},{"$f":"cellsize","v":1.25},{"$f":"cellsize","v":1.25},{"$f":"cellsize","v":1.25},{"$f":"cellsize/2","v":0.625}]
[null,"dh/dy:",{"$f":"(Main!$C$19 - Main!$C$20)/cellsize","v":3.4031088167144216E-2},{"$f":"(Main!$D$19 - Main!$D$20)/cellsize","v":3.523143054148363E-2},{"$f":"(Main!$E$19 - Main!$E$20)/cellsize","v":3.8939466299883915E-2},{"$f":"(Main!$F$19 - Main!$F$20)/cellsize","v":4.5500323845237743E-2},{"$f":"(Main!$G$19 - Main!$G$20)/cellsize","v":5.5584723411379856E-2},{"$f":"(Main!$H$19 - Main!$H$20)/cellsize","v":7.0400085663293061E-2},{"$f":"(Main!$I$19 - Main!$I$20)/cellsize","v":9.2198595140418144E-2},{"$f":"(Main!$J$19 - Main!$J$20)/cellsize","v":0.12559621555383557},{"$f":"(Main!$K$19 - Main!$K$20)/cellsize","v":0.18135778941890807},{"$f":"(Main!$L$19 - Main!$L$20)/cellsize","v":0.28845870647306671}]
[null,"vi:",{"$f":"k*C10","v":0.11761144070565042},{"$f":"k*D10","v":0.12175982395136743},{"$f":"k*E10","v":0.13457479553239882},{"$f":"k*F10","v":0.15724911920914167},{"$f":"k*G10","v":0.1921008041097288},{"$f":"k*H10","v":0.24330269605234084},{"$f":"k*I10","v":0.31863834480528513},{"$f":"k*J10","v":0.43406052095405578},{"$f":"k*K10","v":0.62677252023174634},{"$f":"k*L10","v":0.99691328957091863}]
[null,"qi:",{"$f":"C9*C11","v":7.350715044103151E-2},{"$f":"D9*D11","v":0.1521997799392093},{"$f":"E9*E11","v":0.16821849441549852},{"$f":"F9*F11","v":0.19656139901142708},{"$f":"G9*G11","v":0.24012600513716098},{"$f":"H9*H11","v":0.30412837006542603},{"$f":"I9*I11","v":0.39829793100660643},{"$f":"J9*J11","v":0.54257565119256967},{"$f":"K9*K11","v":0.78346565028968296},{"$f":"L9*L11","v":0.62307080598182418}]
[]
[null,"Unit Q:",{"$f":"SUM(C12:L12)","v":3.4821512374804366},{"$f":"\"[\"&lunit&\"^3/\"&tunit&\"/\"&lunit&\"]\"","v":"[m^3/day/m]"}]
[null,"Total Q:",{"$f":"unitq*length","v":1044.645371244131},{"$f":"\"[\"&lunit&\"^3/\"&tunit&\"]\"","v":"[m^3/day]"}]